BEGIN:VCALENDAR
VERSION:2.0
PRODID:-//Hemond’s MX &amp; Offroad Park - ECPv6.15.20//NONSGML v1.0//EN
CALSCALE:GREGORIAN
METHOD:PUBLISH
X-ORIGINAL-URL:https://www.hemondsmx.com
X-WR-CALDESC:Events for Hemond’s MX &amp; Offroad Park
REFRESH-INTERVAL;VALUE=DURATION:PT1H
X-Robots-Tag:noindex
X-PUBLISHED-TTL:PT1H
BEGIN:VTIMEZONE
TZID:UTC
BEGIN:STANDARD
TZOFFSETFROM:+0000
TZOFFSETTO:+0000
TZNAME:UTC
DTSTART:20180101T000000
END:STANDARD
END:VTIMEZONE
BEGIN:VEVENT
DTSTART;VALUE=DATE:20190728
DTEND;VALUE=DATE:20190729
DTSTAMP:20260421T090338
CREATED:20190414T210250Z
LAST-MODIFIED:20190414T210250Z
UID:2906-1564272000-1564358399@www.hemondsmx.com
SUMMARY:J Day Hare Scramble
DESCRIPTION:Race Info Coming Soon.
URL:https://www.hemondsmx.com/schedule/j-day-hare-scramble/
LOCATION:695 Woodman Hill Road\, Minot\, ME\, 04258\, United States
CATEGORIES:Races
ATTACH;FMTTYPE=image/jpeg:https://www.hemondsmx.com/wp-content/uploads/2019/04/hmxp-jday-2019.jpg
END:VEVENT
END:VCALENDAR